BEGIN:VCALENDAR
VERSION:2.0
PRODID:-//eventon.com NONSGML v1.0//EN
CALSCALE:GREGORIAN
METHOD:PUBLISH
BEGIN:VEVENT
UID:69e6166934c4f
DTSTAMP:20260420T140457
DTSTART:20251031T190000Z
DTEND:20251031T230000Z
TZID:Europe/Zurich
LOCATION:
SUMMARY:Cycle des 13 Gardiennes 2025
DESCRIPTION:Rencontre avec l&rsquo;un des 13 archétypes du Principe Féminin. Il vous sera dévoilé par Melissa lors de la soirée. 13 rencontres avec le même groupe de Femmes\,  au cours desquelles des liens se tissent dans un esprit de Sororité\,  où l’on apprend à se faire confiance\,  à découvrir des résonances[..]\nhttps://airelle9.ch/events/cycle-des-13-gardiennes-2025-31octobre/
URL:https://airelle9.ch/events/cycle-des-13-gardiennes-2025-31octobre/
END:VEVENT
END:VCALENDAR