BEGIN:VCALENDAR
VERSION:2.0
PRODID:-//eventon.com NONSGML v1.0//EN
CALSCALE:GREGORIAN
METHOD:PUBLISH
BEGIN:VEVENT
UID:69e61c775a622
DTSTAMP:20260420T143047
DTSTART:20260325T190000Z
DTEND:20260325T203000Z
TZID:Europe/Zurich
LOCATION:
SUMMARY:Cours de Téhima
DESCRIPTION:La TÉHIMA est une pratique corporelle qui chorégraphie la forme\,  l’énergie\,  la symbolique et la beauté des 22 lettres de l’alphabet hébraïque. Horaire: 19h00 à 20h30 Tarif au semestre Renseignement &amp; Inscription auprès de Murielle Fiaux ou 079 227 23 55 Plus d&rsquo;info &nbsp;\nhttps://airelle9.ch/events/cours-de-tehima-25mars2026/
URL:https://airelle9.ch/events/cours-de-tehima-25mars2026/
END:VEVENT
END:VCALENDAR