BEGIN:VCALENDAR
VERSION:2.0
PRODID:-//eventon.com NONSGML v1.0//EN
CALSCALE:GREGORIAN
METHOD:PUBLISH
BEGIN:VEVENT
UID:69e8c49175d1f
DTSTAMP:20260422T145233
DTSTART:20261114T091500Z
DTEND:20261114T200000Z
TZID:Europe/London
LOCATION:
SUMMARY:Respiration holotropique Grof® Breathwork
DESCRIPTION:Une occasion unique de découvrir la Respiration Holotropique et le travail en thérapie transpersonnelle dans le format d’une journée accompagnée par Ceyda et Robert Hirsch. La Respiration Holotropique est une méthode thérapeutique puissante qui favorise : 〉 L’élargissement de l’état de conscience 〉 La libération de blocages émotionnels et corporels[..]\nhttps://airelle9.ch/events/respiration-holotropique-grof-breathwork-novembre/
URL:https://airelle9.ch/events/respiration-holotropique-grof-breathwork-novembre/
END:VEVENT
END:VCALENDAR