BEGIN:VCALENDAR
VERSION:2.0
PRODID:-//eventon.com NONSGML v1.0//EN
CALSCALE:GREGORIAN
METHOD:PUBLISH
BEGIN:VEVENT
UID:69e9feeca17fc
DTSTAMP:20260423T131348
DTSTART:20260904T190000Z
DTEND:20260906T170000Z
TZID:Europe/Zurich
LOCATION:
SUMMARY:Incarne ton Essence
DESCRIPTION:Incarne ton Essence Un voyage de transformation pour vivre ta vérité profonde et te reconnecter à ta force intérieure ! 4 au 6 septembre 2026 🔥Un stage où tu peux te libérer de souffrance et éveiller la puissance de ton âme🔥! L&rsquo;événement est limité à 8 participants. Chacun(e) disposera de[..]\nhttps://airelle9.ch/events/incarne-ton-essence/
URL:https://airelle9.ch/events/incarne-ton-essence/
END:VEVENT
END:VCALENDAR