BEGIN:VCALENDAR
VERSION:2.0
PRODID:-//eventon.com NONSGML v1.0//EN
CALSCALE:GREGORIAN
METHOD:PUBLISH
BEGIN:VEVENT
UID:69e9ecc37d842
DTSTAMP:20260423T115619
DTSTART:20261010T093000Z
DTEND:20261011T163000Z
TZID:Europe/Zurich
LOCATION:
SUMMARY:M1 - Formation Respiration alchimique
DESCRIPTION:Module 1: La Respiration Alchimique pour soi-même • Apprendre les clés de l’accueil et du ressenti pour respirer seul en toute sécurité. • Oser rentrer en soi-même et faire face à ce qui est là. • Comprendre comment les choses se transforment par la Présence et l’Amour. • L’exile de[..]\nhttps://airelle9.ch/events/m1-formation-respiration-alchimique/
URL:https://airelle9.ch/events/m1-formation-respiration-alchimique/
END:VEVENT
END:VCALENDAR