BEGIN:VCALENDAR
VERSION:2.0
PRODID:-//eventon.com NONSGML v1.0//EN
CALSCALE:GREGORIAN
METHOD:PUBLISH
BEGIN:VEVENT
UID:69e9ed67108fe
DTSTAMP:20260423T115903
DTSTART:20261107T093000Z
DTEND:20261108T163000Z
TZID:Europe/Zurich
LOCATION:
SUMMARY:M2 - Formation Respiration alchimique
DESCRIPTION:Module 2 Respirer avec l’autre. S’ouvrir à ce que l’on ressent • Accompagner l’autre dans son exploration : tenir l’espace\,  être présent. • Apprendre à créer un cadre et un espace sacré. • Ecoute active\,  être présent à 100% pour l’autre\,  sans jugement. • Accueillir avec bienveillance les parties de[..]\nhttps://airelle9.ch/events/m2-formation-respiration-alchimique-2/
URL:https://airelle9.ch/events/m2-formation-respiration-alchimique-2/
END:VEVENT
END:VCALENDAR