BEGIN:VCALENDAR
VERSION:2.0
PRODID:-//eventon.com NONSGML v1.0//EN
CALSCALE:GREGORIAN
METHOD:PUBLISH
BEGIN:VEVENT
UID:69e9ec8f38ea0
DTSTAMP:20260423T115527
DTSTART:20261205T093000Z
DTEND:20261206T163000Z
TZID:Europe/Zurich
LOCATION:
SUMMARY:M3 - Formation Respiration alchimique
DESCRIPTION:Module 3: Observer le subconscient. Accepter ce qui est • Aligner notre conscient sur le subconscient\,  afin de laisser s’éveiller le supraconscient. • Travail sur la ligne de vie et les points faibles laissés en arrière. • Prendre conscience des anciennes blessures écrites dans notre ressenti corporel • Apprendre à[..]\nhttps://airelle9.ch/events/m3-formation-respiration-alchimique-2/
URL:https://airelle9.ch/events/m3-formation-respiration-alchimique-2/
END:VEVENT
END:VCALENDAR