BEGIN:VCALENDAR
VERSION:2.0
PRODID:-//eventon.com NONSGML v1.0//EN
CALSCALE:GREGORIAN
METHOD:PUBLISH
BEGIN:VEVENT
UID:69e9eb97a0f4b
DTSTAMP:20260423T115119
DTSTART:20270116T093000Z
DTEND:20270117T163000Z
TZID:Europe/Zurich
LOCATION:
SUMMARY:M4 - Formation Respiration alchimique
DESCRIPTION:Module 4: Développement de l’intuition • Lecture intuitive\,  observation des énergies. • Apprendre à ressentir en soi et en l’autre\,  voyager dans nos sensations/émotions/croyances. • Développer le non-jugement et la vision profonde et aimante. • Transformer ce qui nous limite par la compréhension directe. • Observer notre Lumière\,  autant que[..]\nhttps://airelle9.ch/events/m4-formation-respiration-alchimique-2/
URL:https://airelle9.ch/events/m4-formation-respiration-alchimique-2/
END:VEVENT
END:VCALENDAR