BEGIN:VCALENDAR
VERSION:2.0
PRODID:-//eventon.com NONSGML v1.0//EN
CALSCALE:GREGORIAN
METHOD:PUBLISH
BEGIN:VEVENT
UID:69e9ed2573f12
DTSTAMP:20260423T115757
DTSTART:20270220T093000Z
DTEND:20270221T163000Z
TZID:Europe/Zurich
LOCATION:
SUMMARY:M5 - Formation Respiration alchimique
DESCRIPTION:Module 5: Métathérapie et Respiration Alchimique • Tout ce qui se passe dans notre psychisme s’inscrit dans nos sensations corporels. En ressentant ce qui est là\,  dans les sensations physique\,  on peux comprendre ce qui se passe dans notre esprit et transformer ce qui a besoin de l’être. • Voir\, [..]\nhttps://airelle9.ch/events/m5-formation-respiration-alchimique-2/
URL:https://airelle9.ch/events/m5-formation-respiration-alchimique-2/
END:VEVENT
END:VCALENDAR