BEGIN:VCALENDAR
VERSION:2.0
PRODID:-//eventon.com NONSGML v1.0//EN
CALSCALE:GREGORIAN
METHOD:PUBLISH
BEGIN:VEVENT
UID:69e9ebe90b610
DTSTAMP:20260423T115241
DTSTART:20270320T093000Z
DTEND:20270321T163000Z
TZID:Europe/Zurich
LOCATION:
SUMMARY:M6 - Formation Respiration alchimique
DESCRIPTION:Module 6: Accompagnement de groupe\,  connexion au Vaste • Se connecter au Soi et au plus Vaste pour respirer et accompagner les autres dans la Respiration Alchimique. • Commencer à donner par soi-même des respirs si on le souhaite. • Respirer l’Esprit et s’abandonner à ce qui est plus grand.[..]\nhttps://airelle9.ch/events/m6-formation-respiration-alchimique-2/
URL:https://airelle9.ch/events/m6-formation-respiration-alchimique-2/
END:VEVENT
END:VCALENDAR