BEGIN:VCALENDAR
VERSION:2.0
PRODID:-//eventon.com NONSGML v1.0//EN
CALSCALE:GREGORIAN
METHOD:PUBLISH
BEGIN:VEVENT
UID:69e8af7b263d3
DTSTAMP:20260422T132235
DTSTART:20260916T190000Z
DTEND:20260916T213000Z
TZID:Europe/Zurich
LOCATION:
SUMMARY:Ressource Movement Medicine
DESCRIPTION:Ce cercle s’adresse aux thérapeutes\,  coachs\,  facilitateurs et accompagnants qui tiennent des espaces pour les autres\,  en individuel ou en groupe. Tenir un espace demande de la présence\,  de l’écoute et de l’engagement. Mais cela nécessite aussi des lieux pour se déposer\,  pour transformer ce qui a été traversé\,  et[..]\nhttps://airelle9.ch/events/ressource-movement-medicine-2/
URL:https://airelle9.ch/events/ressource-movement-medicine-2/
END:VEVENT
END:VCALENDAR